BEGIN:VCALENDAR
VERSION:2.0
PRODID:-//wp-events-plugin.com//7.2.3.1//EN
TZID:Europe/Berlin
X-WR-TIMEZONE:Europe/Berlin
BEGIN:VEVENT
UID:461@kriegerschule.de
DTSTART;TZID=Europe/Berlin:20260516T140000
DTEND;TZID=Europe/Berlin:20260517T140000
DTSTAMP:20260305T174456Z
URL:https://www.kriegerschule.de/termine/2026/05/16/neumond-schwitzhuette
SUMMARY:Neumond-Schwitzhütte
DESCRIPTION:[fusion_builder_container type="flex" hundred_percent="no" equa
 l_height_columns="no" menu_anchor="" hide_on_mobile="small-visibility\,med
 ium-visibility\,large-visibility" class="" id="" background_color="" backg
 round_image="" background_position="center center" background_repeat="no-r
 epeat" fade="no" background_parallax="none" parallax_speed="0.3" video_mp4
 ="" video_webm="" video_ogv="" video_url="" video_aspect_ratio="16:9" vide
 o_loop="yes" video_mute="yes" overlay_color="" video_preview_image="" bord
 er_color="" border_style="solid" padding_top="" padding_bottom="" padding_
 left="" padding_right=""][fusion_builder_row][fusion_builder_column type="
 1_1" layout="1_1" background_position="left top" background_color="" borde
 r_color="" border_style="solid" border_position="all" spacing="yes" backgr
 ound_image="" background_repeat="no-repeat" padding_top="" padding_right="
 " padding_bottom="" padding_left="" margin_top="0px" margin_bottom="0px" c
 lass="" id="" animation_type="" animation_speed="0.3" animation_direction=
 "left" hide_on_mobile="small-visibility\,medium-visibility\,large-visibili
 ty" center_content="no" last="true" min_height="" hover_type="none" link="
 " border_sizes_top="" border_sizes_bottom="" border_sizes_left="" border_s
 izes_right="" first="true"][fusion_text columns="" column_min_width="" col
 umn_spacing="" rule_style="" rule_size="" rule_color="" hue="" saturation=
 "" lightness="" alpha="" user_select="" awb-switch-editor-focus="" content
 _alignment_medium="" content_alignment_small="" content_alignment="" disab
 le_idd="no" hide_on_mobile="small-visibility\,medium-visibility\,large-vis
 ibility" sticky_display="normal\,sticky" class="" id="" html_attributes="W
 10=" width_medium="" width_small="" width="" min_width_medium="" min_width
 _small="" min_width="" max_width_medium="" max_width_small="" max_width=""
  margin_top_medium="" margin_right_medium="" margin_bottom_medium="" margi
 n_left_medium="" margin_top_small="" margin_right_small="" margin_bottom_s
 mall="" margin_left_small="" margin_top="" margin_right="" margin_bottom="
 " margin_left="" fusion_font_family_text_font="" fusion_font_variant_text_
 font="" font_size="" line_height="" letter_spacing="" text_transform="" te
 xt_color="" render_logics="" logics="" animation_type="" animation_directi
 on="left" animation_color="" animation_speed="0.3" animation_delay="0" ani
 mation_offset=""]\nZum Neumond öffnet sich ein stiller Raum\nIm Moment de
 s Rückzugs\, in dem alles zum Ursprung zurückkehrt und neue Ausrichtung 
 entstehen kann.\n\nIn der Neumondschwitzhütte gehen wir in die Dunkelheit
  als schöpferischen Schoß des Lebens und lauschen dem\, was im Unsichtba
 ren bereits wachsen will.\nWir reinigen\, lassen Altes abfallen und setzen
  klare\, einfache Intentionen für den neuen Zyklus.\nAus der Hitze\, dem 
 Dampf und der Stille entsteht innere Führung. Du gehst genährt und gesam
 melt zurück\, mit einem Samen im Herzen\, der in den kommenden Wochen Ges
 talt annimmt.\nOrt\nDie Homebase der Kriegerschule im Hochschwarzwald\, ei
 n zauberhafter Ort der Heilung\nLeitung\nJack ist ein hochqualifizierter S
 chwitzhüttenleiter\, der mit tiefem Respekt für die Traditionen und eine
 m starken Engagement für die spirituelle und persönliche Entwicklung sei
 ner Teilnehmer arbeitet. Seine Fähigkeit\, Menschen durch transformative 
 Erfahrungen zu führen und einen sicheren\, unterstützenden Raum zu schaf
 fen\, zeichnet ihn als herausragenden Schwitzhüttenleiter aus.\nVerpflegu
 ng\nIst im Preis inbegriffen: Unsere Köchin verwöhnt uns liebevoll! Vege
 tarisch\, vegan\, biologisch\, regional\nUnverträglichkeiten bitte zuvor 
 anmelden\n\n[fusion_alert type="custom" accent_color="var(--awb-color4)" h
 ue="" saturation="" lightness="" alpha="" background_color="var(--awb-colo
 r2)" border_size="" border_radius_top_left="10" border_radius_top_right="1
 0" border_radius_bottom_right="10" border_radius_bottom_left="10" icon="" 
 text_align="left" padding_top="" padding_right="" padding_bottom="" paddin
 g_left="" margin_top="" margin_right="" margin_bottom="" margin_left="" te
 xt_transform="normal" link_color_inheritance="" dismissable="no" box_shado
 w="" hide_on_mobile="small-visibility\,medium-visibility\,large-visibility
 " sticky_display="normal\,sticky" class="" id="" animation_type="" animati
 on_direction="left" animation_color="" animation_speed="0.3" animation_del
 ay="0" animation_offset="" logics=""]\nWir empfehlen Gastgeber:innen in de
 r Nähe\nBitte ohne Frühstück buchen\, das gibt es am Morgen nach der Sc
 hwitzhütte bei uns\nÜbernachtung bei uns am Platz\nWohnmobil / Zelt  
 € 25\,- / Nacht\nBitte anfragen\, da nur begrenzte Möglichkeiten\n\n\n[
 /fusion_alert]\n\n[/fusion_text][/fusion_builder_column][/fusion_builder_r
 ow][/fusion_builder_container]
CATEGORIES:Schwitzhütte
LOCATION:Kriegerschule Hochschwarzwald\, Kleineisenbachstraße 41\, Frieden
 weiler\, BW\, 79877\, Hochschwarzwald\, Deutschland
X-APPLE-STRUCTURED-LOCATION;VALUE=URI;X-ADDRESS=Kleineisenbachstraße 41\, 
 Friedenweiler\, BW\, 79877\, Hochschwarzwald\, Deutschland;X-APPLE-RADIUS=
 100;X-TITLE=Kriegerschule Hochschwarzwald:geo:0,0
END:VEVENT
BEGIN:VTIMEZONE
TZID:Europe/Berlin
X-LIC-LOCATION:Europe/Berlin
BEGIN:DAYLIGHT
DTSTART:20260329T030000
TZOFFSETFROM:+0100
TZOFFSETTO:+0200
TZNAME:CEST
END:DAYLIGHT
END:VTIMEZONE
END:VCALENDAR