BEGIN:VCALENDAR
VERSION:2.0
PRODID:-//wp-events-plugin.com//7.2.3.1//EN
TZID:Europe/Berlin
X-WR-TIMEZONE:Europe/Berlin
BEGIN:VEVENT
UID:422@kriegerschule.de
DTSTART;TZID=Europe/Berlin:20260309T140000
DTEND;TZID=Europe/Berlin:20261030T140000
DTSTAMP:20250909T144110Z
URL:https://www.kriegerschule.de/termine/2026/03/09/ausbildung-phase-ii-ko
 mplett-2
SUMMARY:Ausbildung Phase II komplett
DESCRIPTION:[fusion_builder_container type="flex" hundred_percent="no" equa
 l_height_columns="no" menu_anchor="" hide_on_mobile="small-visibility\,med
 ium-visibility\,large-visibility" class="" id="" background_color="" backg
 round_image="" background_position="center center" background_repeat="no-r
 epeat" fade="no" background_parallax="none" parallax_speed="0.3" video_mp4
 ="" video_webm="" video_ogv="" video_url="" video_aspect_ratio="16:9" vide
 o_loop="yes" video_mute="yes" overlay_color="" video_preview_image="" bord
 er_color="" border_style="solid" padding_top="" padding_bottom="" padding_
 left="" padding_right=""][fusion_builder_row][fusion_builder_column type="
 1_1" layout="1_1" background_position="left top" background_color="" borde
 r_color="" border_style="solid" border_position="all" spacing="yes" backgr
 ound_image="" background_repeat="no-repeat" padding_top="" padding_right="
 " padding_bottom="" padding_left="" margin_top="0px" margin_bottom="0px" c
 lass="" id="" animation_type="" animation_speed="0.3" animation_direction=
 "left" hide_on_mobile="small-visibility\,medium-visibility\,large-visibili
 ty" center_content="no" last="true" min_height="" hover_type="none" link="
 " border_sizes_top="" border_sizes_bottom="" border_sizes_left="" border_s
 izes_right="" first="true"][fusion_text columns="" column_min_width="" col
 umn_spacing="" rule_style="" rule_size="" rule_color="" hue="" saturation=
 "" lightness="" alpha="" user_select="" awb-switch-editor-focus="" content
 _alignment_medium="" content_alignment_small="" content_alignment="" hide_
 on_mobile="small-visibility\,medium-visibility\,large-visibility" sticky_d
 isplay="normal\,sticky" class="" id="" width_medium="" width_small="" widt
 h="" min_width_medium="" min_width_small="" min_width="" max_width_medium=
 "" max_width_small="" max_width="" margin_top="" margin_right="" margin_bo
 ttom="" margin_left="" fusion_font_family_text_font="" fusion_font_variant
 _text_font="" font_size="" line_height="" letter_spacing="" text_transform
 ="" text_color="" animation_type="" animation_direction="left" animation_c
 olor="" animation_speed="0.3" animation_delay="0" animation_offset="" logi
 cs=""]\n\nSetze Deine Reise zum Natur- und Ritual-Coach fort und vertiefe 
 die Triade Methode\nAlle Treffen der Phase II\n\nTreffen 1\nMo 09. – Sa 
 14. März\nSchwarzwald\n\nTreffen 2 / Ritualwoche\nFr 12. – Fr 19. Juni\
 nLichtung Waldecke\n\nTreffen 3\nSa 24. Okt – Fr 30. Okt\nSchwarzwald\n\
 n\nOrte\nZwei mal an der Homebase der Kriegerschule und einmal am Vogelsbe
 rg in Hessen\nLeitung\nDie Leitung für diese Trainings liegt hauptsächli
 ch in Jacks Hand.\nMarsha wird zu bestimmten Treffen als Trainerin anwesen
 d sein.\n\n[/fusion_text][/fusion_builder_column][/fusion_builder_row][/fu
 sion_builder_container]
CATEGORIES:Ausbildung
LOCATION:Deutschland\, An verschiedenen Orten in\, Deutschland\, Deutschlan
 d
X-APPLE-STRUCTURED-LOCATION;VALUE=URI;X-ADDRESS=An verschiedenen Orten in\,
  Deutschland\, Deutschland;X-APPLE-RADIUS=100;X-TITLE=Deutschland:geo:0,0
END:VEVENT
BEGIN:VTIMEZONE
TZID:Europe/Berlin
X-LIC-LOCATION:Europe/Berlin
BEGIN:STANDARD
DTSTART:20251026T020000
TZOFFSETFROM:+0200
TZOFFSETTO:+0100
TZNAME:CET
END:STANDARD
BEGIN:DAYLIGHT
DTSTART:20260329T030000
TZOFFSETFROM:+0100
TZOFFSETTO:+0200
TZNAME:CEST
END:DAYLIGHT
BEGIN:STANDARD
DTSTART:20261025T020000
TZOFFSETFROM:+0200
TZOFFSETTO:+0100
TZNAME:CET
END:STANDARD
END:VTIMEZONE
END:VCALENDAR