BEGIN:VCALENDAR
VERSION:2.0
PRODID:-//wp-events-plugin.com//7.2.3.1//EN
TZID:Europe/Berlin
X-WR-TIMEZONE:Europe/Berlin
BEGIN:VEVENT
UID:380@kriegerschule.de
DTSTART;TZID=Europe/Berlin:20251024T140000
DTEND;TZID=Europe/Berlin:20251026T140000
DTSTAMP:20251019T071622Z
URL:https://www.kriegerschule.de/termine/2025/10/24/soehne-der-erde-iii-ri
 ng-of-fire-2
SUMMARY:Söhne der Erde - Ring of Fire
DESCRIPTION:Der magischste Tanz der „Söhne der Erde“-Trainings\n„Rin
 g of Fire“ - Tanze deinen Traum\, träume dein Leben!\nZu Samhain (kelti
 sches Neujahr) zum 11. Neumond nach der Wintersonnwende\, bildet den beste
 n Boden für diesen "Schwarzmondtanz"\nWenn du bereits einen Kraftstab has
 t\, melde dich hier an. Wenn nicht\, gehe zum Ring of Fire Plus\nLeitung\n
 Jack ist ein erfahrener Trainer\, der seit über 30 Jahren Männer mit sei
 ner einzigartigen Kombination aus Flexibilität\, Ernsthaftigkeit\, Humor 
 und Tiefe auf ihrem Weg begleitet.\nSeine unerschöpfliche Neugier für da
 s Mannsein der Neuen Zeit treibt ihn an\, traditionelle Rituale mit frisch
 er Energie und Klarheit neu zu interpretieren.\nVeraltete Klischees haben 
 bei ihm keinen Platz\, stattdessen fördert er authentisches Wachstum und 
 Selbstreflexion.\nSeine Trainings bieten eine kraftvollen und geschützten
  Rahmen\, um sich selbst zu stärken und neue\, mutige Schritte im Leben z
 u wagen.\n„Jack entwickelte vor 30 Jahren\, mit einem damaligen Medizinb
 ruder zusammedn die einzigartigen und legendären Feuertänze“\nOrt\nDie
  Lichtung Waldecke\, ein Traum\, mitten in der Natur.\nSchlicht und ergrei
 fend der ideale Platz\, um aus dem Alltäglichen auszusteigen.\nÜbernacht
 ung\nNur im Zelt\; Camper\; Wohnmobil\; Wohnwagen (Kein Strom vorhanden)\n
 Verpflegung\nVegetarisch\, vegan\, biologisch\, regional\nUnverträglichke
 iten bitte zuvor anmelden
CATEGORIES:Söhne der Erde,Söhne der Erde Ring of Fire
LOCATION:Lichtung Waldecke\, Lichtung Waldecke\, Steinau Ulmbach\, Hessen\,
  36396\, Vogelsberg\, Deutschland
X-APPLE-STRUCTURED-LOCATION;VALUE=URI;X-ADDRESS=Lichtung Waldecke\, Steinau
  Ulmbach\, Hessen\, 36396\, Vogelsberg\, Deutschland;X-APPLE-RADIUS=100;X-
 TITLE=Lichtung Waldecke:geo:0,0
END:VEVENT
BEGIN:VTIMEZONE
TZID:Europe/Berlin
X-LIC-LOCATION:Europe/Berlin
BEGIN:DAYLIGHT
DTSTART:20250330T030000
TZOFFSETFROM:+0100
TZOFFSETTO:+0200
TZNAME:CEST
END:DAYLIGHT
BEGIN:STANDARD
DTSTART:20251026T020000
TZOFFSETFROM:+0200
TZOFFSETTO:+0100
TZNAME:CET
END:STANDARD
END:VTIMEZONE
END:VCALENDAR