BEGIN:VCALENDAR
VERSION:2.0
PRODID:-//wp-events-plugin.com//7.2.3.1//EN
TZID:Europe/Berlin
X-WR-TIMEZONE:Europe/Berlin
BEGIN:VEVENT
UID:368@kriegerschule.de
DTSTART;TZID=Europe/Berlin:20250612T140000
DTEND;TZID=Europe/Berlin:20250619T140000
DTSTAMP:20250602T153944Z
URL:https://www.kriegerschule.de/termine/2025/06/12/ausbildung-ritualtage-
 phase-i-ii-iii-einzelbuchung
SUMMARY:Ausbildung Ritualtage -  Phase I / II / III Einzelbuchung
DESCRIPTION:[fusion_builder_container type="flex" hundred_percent="no" equa
 l_height_columns="no" menu_anchor="" hide_on_mobile="small-visibility\,med
 ium-visibility\,large-visibility" class="" id="" background_color="" backg
 round_image="" background_position="center center" background_repeat="no-r
 epeat" fade="no" background_parallax="none" parallax_speed="0.3" video_mp4
 ="" video_webm="" video_ogv="" video_url="" video_aspect_ratio="16:9" vide
 o_loop="yes" video_mute="yes" overlay_color="" video_preview_image="" bord
 er_color="" border_style="solid" padding_top="" padding_bottom="" padding_
 left="" padding_right=""][fusion_builder_row][fusion_builder_column type="
 1_1" layout="1_1" background_position="left top" background_color="" borde
 r_color="" border_style="solid" border_position="all" spacing="yes" backgr
 ound_image="" background_repeat="no-repeat" padding_top="" padding_right="
 " padding_bottom="" padding_left="" margin_top="0px" margin_bottom="0px" c
 lass="" id="" animation_type="" animation_speed="0.3" animation_direction=
 "left" hide_on_mobile="small-visibility\,medium-visibility\,large-visibili
 ty" center_content="no" last="true" min_height="" hover_type="none" link="
 " border_sizes_top="" border_sizes_bottom="" border_sizes_left="" border_s
 izes_right="" first="true"][fusion_text]\n\n\nEinzelbuchende bekommen Teac
 hings und Rituale nach Absprache\nEine intensive Woche unter freiem Himmel
 \, inmitten der Natur\nAlle Teilnehmenden der Ausbildungsgruppen plus Einz
 elbuchende kommen zusammen\, um tief und intensiv einzutauchen.\n\n\nOrt\n
 Die Lichtung Waldecke\, ein Traum\, mitten in der Natur.\nSchlicht und erg
 reifend der ideale Platz\, um aus dem Alltäglichen auszusteigen\nLeitung\
 nMarsha und Jack leiten das Treffen als eingespieltes\, harmonisches Team\
 , das seit fast 20 Jahren die Triade-Methode entwickelt hat. Sie ergänzen
  sich in ihrer Arbeit auf kreative Weise\, wobei der weibliche und männli
 che Aspekt in Balance agieren. Mit Weisheit und Leidenschaft führen sie d
 ie Teilnehmer durch den Prozess des menschlichen Erwachens. Ihre gemeinsam
 e Präsenz schafft einen Raum der Inspiration\, Wissensvermittlung und des
  Wachstums.\nÜbernachtung\nIm eigenen Zelt oder Camper (kein Strom vorhan
 den)\nVerpflegung\nVegetarisch\, vegan\, biologisch\, regional\nUnverträg
 lichkeiten bitte zuvor anmelden (Die Verpflegungskosten variieren\, da tei
 lweise mehrere Tage gefastet wird)\n\n[/fusion_text][/fusion_builder_colum
 n][/fusion_builder_row][/fusion_builder_container]
CATEGORIES:Ausbildung,Ritualwoche
LOCATION:Lichtung Waldecke\, Lichtung Waldecke\, Steinau Ulmbach\, Hessen\,
  36396\, Vogelsberg\, Deutschland
X-APPLE-STRUCTURED-LOCATION;VALUE=URI;X-ADDRESS=Lichtung Waldecke\, Steinau
  Ulmbach\, Hessen\, 36396\, Vogelsberg\, Deutschland;X-APPLE-RADIUS=100;X-
 TITLE=Lichtung Waldecke:geo:0,0
END:VEVENT
BEGIN:VTIMEZONE
TZID:Europe/Berlin
X-LIC-LOCATION:Europe/Berlin
BEGIN:DAYLIGHT
DTSTART:20250330T030000
TZOFFSETFROM:+0100
TZOFFSETTO:+0200
TZNAME:CEST
END:DAYLIGHT
END:VTIMEZONE
END:VCALENDAR