BEGIN:VCALENDAR
VERSION:2.0
PRODID:-//wp-events-plugin.com//7.2.3.1//EN
TZID:Europe/Berlin
X-WR-TIMEZONE:Europe/Berlin
BEGIN:VEVENT
UID:317@kriegerschule.de
DTSTART;TZID=Europe/Berlin:20231231T140000
DTEND;TZID=Europe/Berlin:20240101T150000
DTSTAMP:20231229T151543Z
URL:https://www.kriegerschule.de/termine/2023/12/31/silvester-schwitzhuett
 e-3
SUMMARY:Silvester - Schwitzhütte
DESCRIPTION:[fusion_builder_container type="flex" hundred_percent="no" equa
 l_height_columns="no" menu_anchor="" hide_on_mobile="small-visibility\,med
 ium-visibility\,large-visibility" class="" id="" background_color="" backg
 round_image="" background_position="center center" background_repeat="no-r
 epeat" fade="no" background_parallax="none" parallax_speed="0.3" video_mp4
 ="" video_webm="" video_ogv="" video_url="" video_aspect_ratio="16:9" vide
 o_loop="yes" video_mute="yes" overlay_color="" video_preview_image="" bord
 er_color="" border_style="solid" padding_top="" padding_bottom="" padding_
 left="" padding_right=""][fusion_builder_row][fusion_builder_column type="
 1_1" layout="1_1" background_position="left top" background_color="" borde
 r_color="" border_style="solid" border_position="all" spacing="yes" backgr
 ound_image="" background_repeat="no-repeat" padding_top="" padding_right="
 " padding_bottom="" padding_left="" margin_top="0px" margin_bottom="0px" c
 lass="" id="" animation_type="" animation_speed="0.3" animation_direction=
 "left" hide_on_mobile="small-visibility\,medium-visibility\,large-visibili
 ty" center_content="no" last="true" min_height="" hover_type="none" link="
 " border_sizes_top="" border_sizes_bottom="" border_sizes_left="" border_s
 izes_right="" first="true"][fusion_text columns="" column_min_width="" col
 umn_spacing="" rule_style="" rule_size="" rule_color="" hue="" saturation=
 "" lightness="" alpha="" content_alignment_medium="" content_alignment_sma
 ll="" content_alignment="" hide_on_mobile="small-visibility\,medium-visibi
 lity\,large-visibility" sticky_display="normal\,sticky" class="" id="" mar
 gin_top="" margin_right="" margin_bottom="" margin_left="" fusion_font_fam
 ily_text_font="" fusion_font_variant_text_font="" font_size="" line_height
 ="" letter_spacing="" text_transform="" text_color="" animation_type="" an
 imation_direction="left" animation_color="" animation_speed="0.3" animatio
 n_delay="0" animation_offset="" logics=""]\n\n\nDa Silvester in unserer Ge
 sellschaft eine wichtige Nacht ist\, die mit den uns allen bekannten "Ritu
 alen" gefeiert wird\, bieten wir mit dem Schwitzhüttenritual eine Alterna
 tive an.\n\nDie Silvesternacht hatte für unsere Vorfahren keine so große
  Bedeutung. Die Zeit von Winter-Sonnwend bis zu Dreikönig war allgemein s
 chon die wichtigste Hochzeit des Jahres und jeder Tag dazwischen hatte sei
 ne spezielle Bedeutung.\nDas Jahresende ist für uns der 21. Dezember.\n\n
 \n\nEinem Papst gewidmet\n\n\n\nIm Jahr 1582 wurde durch die Gregorianisc
 he Kalenderreform der damalige letzte Tag des Jahres vom 24. Dezember auf
  den 1. Dezember verlegt\, welches der Todestag des Papstes Silvester 1. w
 ar. Vor allem die Katholische Kirche verpasste den meisten „heidnischen
 “ Hochzeiten des Jahres ihren Stempel und belegte alte\, sehr oft weibli
 che Feiertage mit Heiligen aus dem Kirchlichen Kontext.\n\n\nÜbernachtung
 en bieten wir keine an. Diese können in der nahen Umgebung gebucht werden
 .\nBitte ohne Frühstück buchen\; es ist im Preis bei uns mit inbegriffen
 !\nVielleicht möchtest du noch einen Tag früher kommen und  oder späte
 r abreisen\, um eine echte Silvester-Auszeit zu gestalten.\nWir empfehlen 
 Gastgeber:innen in der Nähe:\nBitte ohne Frühstück buchen\, das gibt es
  am Morgen nach der Schwitzhütte bei uns.\n\nWichtig: Sag den Vermietende
 n\, dass du zu einem Seminar kommst\,\ndann können sie die Übernachtung 
 als Geschäftsreise verbuchen.\n\n 	Gästehaus Waldhüsle\, Christine Schw
 örer\, 1 Min. zu Fuß\n 	Sausan Barri   1 Min. zu Fuß    WhatsApp &a
 mp\; Telegramm: 0049-157 32278999\n 	Café und Pension Estenfeld  30 Min
  zu Fuß\, 5 Min mit dem Auto\n 	Haus Schwarz – Ferienwohnungen\, 30 Mi
 n zu Fuß\, 5 Min mit dem Auto\n 	Gasthaus Pension Bierhäusle\, 15 Min. 
 zu Fuß\n 	Pension Altvogtshof  15 Min mit dem Auto\n\nMehr Übernachtung
 smöglichkeiten in der weiteren Umgebung findest Du hier:\n\nHochschwarzwa
 ld Tourismus GmbH\n\nVerpflegung im Preis inbegriffen\n\nVegetarisch\, veg
 an\, biologisch\, regional\n\nUnverträglichkeiten bitte zuvor anmelden\n\
 n[/fusion_text][/fusion_builder_column][/fusion_builder_row][/fusion_build
 er_container]
CATEGORIES:Schwitzhütte
LOCATION:Kriegerschule Hochschwarzwald\, Kleineisenbachstraße 41\, Frieden
 weiler\, BW\, 79877\, Hochschwarzwald\, Deutschland
X-APPLE-STRUCTURED-LOCATION;VALUE=URI;X-ADDRESS=Kleineisenbachstraße 41\, 
 Friedenweiler\, BW\, 79877\, Hochschwarzwald\, Deutschland;X-APPLE-RADIUS=
 100;X-TITLE=Kriegerschule Hochschwarzwald:geo:0,0
END:VEVENT
BEGIN:VTIMEZONE
TZID:Europe/Berlin
X-LIC-LOCATION:Europe/Berlin
BEGIN:STANDARD
DTSTART:20231029T020000
TZOFFSETFROM:+0200
TZOFFSETTO:+0100
TZNAME:CET
END:STANDARD
END:VTIMEZONE
END:VCALENDAR