BEGIN:VCALENDAR
VERSION:2.0
PRODID:-//wp-events-plugin.com//7.2.3.1//EN
TZID:Europe/Berlin
X-WR-TIMEZONE:Europe/Berlin
BEGIN:VEVENT
UID:221@kriegerschule.de
DTSTART;TZID=Europe/Berlin:20221013T150000
DTEND;TZID=Europe/Berlin:20221016T130000
DTSTAMP:20220823T075017Z
URL:https://www.kriegerschule.de/termine/2022/10/13/radskreis-7-generation
 en-fuer-junge-menschen-unternehmerinnen
SUMMARY:RadsKreis 7 Generationen / für junge Menschen & UnternehmerInnen
DESCRIPTION:[fusion_builder_container type="flex" hundred_percent="no" equa
 l_height_columns="no" menu_anchor="" hide_on_mobile="small-visibility\,med
 ium-visibility\,large-visibility" class="" id="" background_color="" backg
 round_image="" background_position="center center" background_repeat="no-r
 epeat" fade="no" background_parallax="none" parallax_speed="0.3" video_mp4
 ="" video_webm="" video_ogv="" video_url="" video_aspect_ratio="16:9" vide
 o_loop="yes" video_mute="yes" overlay_color="" video_preview_image="" bord
 er_color="" border_style="solid" padding_top="" padding_bottom="" padding_
 left="" padding_right=""][fusion_builder_row][fusion_builder_column type="
 1_1" layout="1_1" background_position="left top" background_color="" borde
 r_color="" border_style="solid" border_position="all" spacing="yes" backgr
 ound_image="" background_repeat="no-repeat" padding_top="" padding_right="
 " padding_bottom="" padding_left="" margin_top="0px" margin_bottom="0px" c
 lass="" id="" animation_type="" animation_speed="0.3" animation_direction=
 "left" hide_on_mobile="small-visibility\,medium-visibility\,large-visibili
 ty" center_content="no" last="true" min_height="" hover_type="none" link="
 " border_sizes_top="" border_sizes_bottom="" border_sizes_left="" border_s
 izes_right="" first="true"][fusion_text columns="" column_min_width="" col
 umn_spacing="" rule_style="" rule_size="" rule_color="" hue="" saturation=
 "" lightness="" alpha="" content_alignment_medium="" content_alignment_sma
 ll="" content_alignment="" hide_on_mobile="small-visibility\,medium-visibi
 lity\,large-visibility" sticky_display="normal\,sticky" class="" id="" mar
 gin_top="" margin_right="" margin_bottom="" margin_left="" fusion_font_fam
 ily_text_font="" fusion_font_variant_text_font="" font_size="" line_height
 ="" letter_spacing="" text_transform="" text_color="" animation_type="" an
 imation_direction="left" animation_speed="0.3" animation_offset=""]\n\nDie
 se Zusammenkunft führt nun UnternehmerInnen und die jüngere Generation z
 usammen\, um sich auf respektvolle Weise auszutauschen\, Erkenntnisse zu e
 rlangen und diese umzusetzen.\nDie Zukunft ist heute!\nWir kreieren ein Ne
 tz von Unternehmenden mit Handlungskraft und Macht zu Veränderung.\nLies 
 hier mehr über diese Zusammenkunft\nMelde dich vor deiner Anmeldung bitte
  bei uns\nÜbernachtung am Veranstaltungsort Seminarhaus Lindenhof inkl. v
 egetarischer Vollpension / Person / Tag:\n\n 	Einzelzimmer (€ 95\,-)\n 	
 Einzelzimmer mit Privatbad im Flur (€ 105\,-)\n 	Doppelzimmer (€ 90\,-
 )\n 	Doppelzimmer Einzelnutzung (€ 110\,-)\n 	Luxus Doppelzimmer (Nr. 10
 7 und Nr. 207) mit Dusche/WC (€ 105\,-)\n 	Luxus Doppelzimmer Einzelnutz
 ung (€ 135\,-)\n 	Vierbettzimmer ab 3 Personen (€ 80\,-)\n 	Chalet ab 
 3 Personen (€ 80\,-)\n 	Zelt oder Wohnmobil * (€ 73\,-) auf Anfrage\n 
 	Tagesgast (€ 63\,-)\n\nMahlzeiten: Vegetarische-biologisches Büfett u
 nd Salatbüfett mit einmal Nachspeise (mittags)\, tagsüber Angebot von ve
 rschiedenen Tees\, Getreidekaffees\, Brühkaffee (Frühstück)\, Grander-Q
 uell-Wasser und eigenem Apfelsaft. Vegane Optionen vorhanden\, rein vegan 
 bitte vorher anmelden.\n\nHauptmahlzeit € 15\,- | € 9\,- Frühstück\n
 Bei nur einer Übernachtung wird ein Zuschlag von € 10\,- erhoben.\nZusc
 hlag spezielle Diätwünsche nach Absprache und Anmeldung.\n\n*Zelt oder W
 ohnmobil nach Anfrage möglich und Plätze sind limitiert.\nDer Lindenhof 
 bittet Gäste dringlichst die Zimmer des Hauses möglichst zu befüllen be
 vor auf Camping ausgewichen wird.\n\n[/fusion_text][fusion_alert type="cus
 tom" accent_color="#808080" background_color="#efede8" border_size="0" ico
 n="" text_align="left" text_transform="normal" dismissable="no" box_shadow
 ="" hide_on_mobile="small-visibility\,medium-visibility\,large-visibility"
  class="" id="" animation_type="" animation_direction="left" animation_spe
 ed="0.3" animation_offset=""]\n\nZimmerbuchungen bitte direkt beim Lindenh
 of\n\n[/fusion_alert][fusion_alert type="custom" accent_color="#808080" ba
 ckground_color="#efede8" border_size="0" icon="" text_align="left" text_tr
 ansform="normal" dismissable="no" box_shadow="" hide_on_mobile="small-visi
 bility\,medium-visibility\,large-visibility" class="" id="" animation_type
 ="" animation_direction="left" animation_speed="0.3" animation_offset=""]\
 n\nAnmeldung für Junge Menschen € 250\,-\n\n[/fusion_alert][fusion_aler
 t type="custom" accent_color="#808080" background_color="#efede8" border_s
 ize="0" icon="" text_align="left" text_transform="normal" dismissable="no"
  box_shadow="" hide_on_mobile="small-visibility\,medium-visibility\,large-
 visibility" class="" id="" animation_type="" animation_direction="left" an
 imation_speed="0.3" animation_offset=""]\nAchtung: Dieses Anmeldeformular 
 ist nur für die UnternehmerInnen\n[/fusion_alert][/fusion_builder_column]
 [/fusion_builder_row][/fusion_builder_container]
CATEGORIES:RadsKreis 7 Generationen,RadsKreis der Häuptlinge
LOCATION:\, \, 
X-APPLE-STRUCTURED-LOCATION;VALUE=URI;X-ADDRESS=\, ;X-APPLE-RADIUS=100;X-TI
 TLE=:geo:0,0
END:VEVENT
BEGIN:VTIMEZONE
TZID:Europe/Berlin
X-LIC-LOCATION:Europe/Berlin
BEGIN:DAYLIGHT
DTSTART:20220327T030000
TZOFFSETFROM:+0100
TZOFFSETTO:+0200
TZNAME:CEST
END:DAYLIGHT
END:VTIMEZONE
END:VCALENDAR