BEGIN:VCALENDAR
VERSION:2.0
PRODID:-//wp-events-plugin.com//7.2.3.1//EN
TZID:Europe/Berlin
X-WR-TIMEZONE:Europe/Berlin
BEGIN:VEVENT
UID:246@kriegerschule.de
DTSTART;TZID=Europe/Berlin:20221006T120000
DTEND;TZID=Europe/Berlin:20221009T150000
DTSTAMP:20220927T132217Z
URL:https://www.kriegerschule.de/termine/2022/10/06/pionier-whork-camp
SUMMARY:Junge Wilde - Pionier Work Camp
DESCRIPTION:[fusion_builder_container type="flex" hundred_percent="no" equa
 l_height_columns="no" menu_anchor="" hide_on_mobile="small-visibility\,med
 ium-visibility\,large-visibility" class="" id="" background_color="" backg
 round_image="" background_position="center center" background_repeat="no-r
 epeat" fade="no" background_parallax="none" parallax_speed="0.3" video_mp4
 ="" video_webm="" video_ogv="" video_url="" video_aspect_ratio="16:9" vide
 o_loop="yes" video_mute="yes" overlay_color="" video_preview_image="" bord
 er_color="" border_style="solid" padding_top="" padding_bottom="" padding_
 left="" padding_right=""][fusion_builder_row][fusion_builder_column type="
 1_1" layout="1_1" background_position="left top" background_color="" borde
 r_color="" border_style="solid" border_position="all" spacing="yes" backgr
 ound_image="" background_repeat="no-repeat" padding_top="" padding_right="
 " padding_bottom="" padding_left="" margin_top="0px" margin_bottom="0px" c
 lass="" id="" animation_type="" animation_speed="0.3" animation_direction=
 "left" hide_on_mobile="small-visibility\,medium-visibility\,large-visibili
 ty" center_content="no" last="true" min_height="" hover_type="none" link="
 " border_sizes_top="" border_sizes_bottom="" border_sizes_left="" border_s
 izes_right="" first="true"][fusion_text columns="" column_min_width="" col
 umn_spacing="" rule_style="" rule_size="" rule_color="" hue="" saturation=
 "" lightness="" alpha="" content_alignment_medium="" content_alignment_sma
 ll="" content_alignment="" hide_on_mobile="small-visibility\,medium-visibi
 lity\,large-visibility" sticky_display="normal\,sticky" class="" id="" mar
 gin_top="" margin_right="" margin_bottom="" margin_left="" fusion_font_fam
 ily_text_font="" fusion_font_variant_text_font="" font_size="" line_height
 ="" letter_spacing="" text_transform="" text_color="" animation_type="" an
 imation_direction="left" animation_speed="0.3" animation_offset=""]\n\nDer
  Geist\, die Kreativität und die Tatkraft der  jungen Generationen ist g
 efragt\, um den neuen Kriegerschulen-Platz für Eure Zukunft zu gestalten.
 \nErstmalig treffen sich die „Jungen Wilden“ auf der Lichtung Waldecke
  am Vogelsberg (Hessen)\, um diesen Platz für die Camps und viele andere 
 Rituale vorzubereiten. In diesem Work-Camp zelebrieren junge (und jung geb
 liebene) KriegerInnen zusammen die Einweihung eines neuen Ritualplatzes.\n
 \n• Es wird gezeltet\n• Gemeinsam gekocht\n• Der Schwitzhüttenplatz
  wird vorbereitet\n• Es werden Tipistangen geschält\n• Wir singen &am
 p\; trommeln\n• Zeit für Austausch und Teachings\n• ….\n\nUnser neu
 er Ritualplatz ist eine einsam gelegene Waldwiese und wird von der Familie
  eines Schülers der Kriegerschule gehütet.  Er liegt mehrere Kilometer
  von den nächsten Besiedlung entfernt und ermöglicht vollkommen ungestö
 rte Zusammenkünfte inmitten der Natur.\nMit Tatkraft und ganzem Herzen un
 terstützen wir die Vision von Florian „Hungriger Delfin“\, diesen Pla
 tz den schamanischen Natur-Ritualen zu widmen\, und somit neue Samen für 
 eine lichtvolle Zukunft zu säen.  Ab 2023 werden unsere Camps\, die Mä
 nnerarbeit und viele andere rituelle Zusammenkünfte dort stattfinden.\nDi
 eses Treffen ist kostenlos\, doch nicht umsonst!\nDein Beitrag ist die Mit
 hilfe und Mitgestaltung eines Kraft- und Heilungsortes.\n\nWir freuen uns 
 auf erfahrene KriegerInnen und eure Freunde oder Geschwister.  Wer neugi
 erig auf unsere Medizin ist und die Kriegerschule kennenlernen möchte\, f
 indet hier eine gute Gelegenheit.\nWer wieder einmal alt Bekannte treffen 
 möchte: hier könnte das gelingen.\n\n[/fusion_text][/fusion_builder_colu
 mn][/fusion_builder_row][/fusion_builder_container]
LOCATION:Lichtung Waldecke\, Lichtung Waldecke\, Steinau Ulmbach\, Hessen\,
  36396\, Vogelsberg\, Deutschland
X-APPLE-STRUCTURED-LOCATION;VALUE=URI;X-ADDRESS=Lichtung Waldecke\, Steinau
  Ulmbach\, Hessen\, 36396\, Vogelsberg\, Deutschland;X-APPLE-RADIUS=100;X-
 TITLE=Lichtung Waldecke:geo:0,0
END:VEVENT
BEGIN:VTIMEZONE
TZID:Europe/Berlin
X-LIC-LOCATION:Europe/Berlin
BEGIN:DAYLIGHT
DTSTART:20220327T030000
TZOFFSETFROM:+0100
TZOFFSETTO:+0200
TZNAME:CEST
END:DAYLIGHT
END:VTIMEZONE
END:VCALENDAR