BEGIN:VCALENDAR
VERSION:2.0
PRODID:-//wp-events-plugin.com//7.2.3.1//EN
TZID:Europe/Berlin
X-WR-TIMEZONE:Europe/Berlin
BEGIN:VEVENT
UID:237@kriegerschule.de
DTSTART;TZID=Europe/Berlin:20220722T180000
DTEND;TZID=Europe/Berlin:20220725T150000
DTSTAMP:20220707T093036Z
URL:https://www.kriegerschule.de/termine/2022/07/22/schamanisches-mutter-u
 nd-tochter-camp-3
SUMMARY:Schamanisches Mutter und Tochter-Camp
DESCRIPTION:Das Camp  ist für alle Outdoortauglichen (alt und jung) geeig
 net. Mütter\, Töchter\, Tanten\, Omas\, Enkelinnen\, Freundinnen ... sin
 d willkommen!\nKosten\nTeilnahmebeitrag (zzgl. Unterkunft &amp\; Verpflegu
 ng)\n\n 	€ 195\,- ab 18 Jahren\n 	€ 100\,- ab 12 Jahren\n 	€   50\
 ,- ab   4 Jahren\nUnter 4 Jahren frei\n\nUnterkunft (drei Übernachtungen
 )\n\n 	Im eigenen Zelt  € 15\,-\nDie selben Preise gelten für Wohnwage
 n oder Wohnmobil\n(sollten die Camper mit Strom beheizt werden\, fällt ei
 n Zuschlag von € 15\,- an)\n 	Im schlichten Doppel- und Mehrbettzimmer 
  € 20\,- (begrenzte Anzahl)\n(Etagendusche &amp\; WC\, Bettwäsche ist v
 orhanden)\nUnter 4 Jahren frei\n\nVerpflegung:\n\n 	Vegetarische\, biologi
 sche Vollverpflegung € 20\,-\nUnter 4 Jahren frei\n\nPreise gelten pro P
 erson und Übernachtung\n\n[fusion_alert type="custom" accent_color="#8080
 80" background_color="#efede8" border_size="0" icon="" text_align="left" t
 ext_transform="normal" dismissable="no" box_shadow="" hide_on_mobile="smal
 l-visibility\,medium-visibility\,large-visibility" class="" id="" animatio
 n_type="" animation_direction="left" animation_speed="0.3" animation_offse
 t=""]\n\nBei der Anmeldung bitte den Übernachtungswunsch angeben\, nach M
 öglichkeit wird dieser erfüllt.\n\n[/fusion_alert]
CATEGORIES:Schamanisches Mutter und Tochter-Camp
LOCATION:\, \, 
X-APPLE-STRUCTURED-LOCATION;VALUE=URI;X-ADDRESS=\, ;X-APPLE-RADIUS=100;X-TI
 TLE=:geo:0,0
END:VEVENT
BEGIN:VTIMEZONE
TZID:Europe/Berlin
X-LIC-LOCATION:Europe/Berlin
BEGIN:DAYLIGHT
DTSTART:20220327T030000
TZOFFSETFROM:+0100
TZOFFSETTO:+0200
TZNAME:CEST
END:DAYLIGHT
END:VTIMEZONE
END:VCALENDAR