BEGIN:VCALENDAR
VERSION:2.0
PRODID:-//wp-events-plugin.com//7.2.3.1//EN
TZID:Europe/Berlin
X-WR-TIMEZONE:Europe/Berlin
BEGIN:VEVENT
UID:201@kriegerschule.de
DTSTART;TZID=Europe/Berlin:20220519T150000
DTEND;TZID=Europe/Berlin:20220522T140000
DTSTAMP:20220513T115025Z
URL:https://www.kriegerschule.de/termine/2022/05/19/goldmarie-1-der-sprung
 -in-den-brunnen-offenes-training-fuer-einsteigerinnen-2022
SUMMARY:Goldmarie 1 "Der Sprung in den Brunnen" 2022 (offenes Training für
  Einsteigerinnen)
DESCRIPTION:Die Teilnahme an dieser Zusammenkunft ist Bedingung für die An
 meldung zum Goldmarie Jahrestraining. Sie beinhaltet die Einweihung in das
  Schwesternschaftsritual.\n\nÜbernachtung am Veranstaltungsort Seminarhau
 s Lindenhof inkl. vegetarischer Vollpension / Person / Tag:\n\n 	Einzelzim
 mer (€ 88\,-)\n 	Einzelzimmer mit Privatbad im Flur (€ 98\,-)\n 	Doppe
 lzimmer (€ 83\,-)\n 	Doppelzimmer Einzelnutzung (€ 103\,-)\n 	Luxus Do
 ppelzimmer mit Dusche/WC (€ 98\,-)\n 	Luxus Doppelzimmer Einzelnutzung (
 € 128\,-)\n 	Vierbettzimmer ab 3 Personen (€ 73\,-)\n 	Chalet ab 3 Per
 sonen (€ 73\,-)\n 	Zelt oder Wohnmobil * (€ 66\,-)\n 	Tagesgast (€ 5
 6\,- | € 17 Tagespauschale plus gewünschte Mahlzeit)\n\nMahlzeiten: Ve
 getarische-biologisches Büfett und Salatbüfett mit einmal Nachspeise (mi
 ttags)\, tagsüber Angebot von verschiedenen Tees\, Getreidekaffees\, Brü
 hkaffee (Frühstück)\, Grander-Quell-Wasser und eigenem Apfelsaft. Vegane
  Optionen vorhanden\, rein vegan bitte vorher anmelden.\n\nHauptmahlzeit 
 € 15\,- | € 9\,- Frühstück\nBei nur einer Übernachtung wird ein Zus
 chlag von € 10\,- erhoben.\nZuschlag spezielle Diätwünsche nach Abspra
 che und Anmeldung.\n*Zelt oder Wohnmobil nach Anfrage möglich und Plätze
  limitiert. Der Lindenhof bittet Gäste dringlichst die Zimmer des Hauses 
 möglichst zu befüllen bevor auf Camping ausgewichen wird.\n\n[fusion_ale
 rt type="custom" accent_color="#808080" background_color="#efede8" border_
 size="0" icon="" text_align="left" text_transform="normal" dismissable="no
 " box_shadow="" hide_on_mobile="small-visibility\,medium-visibility\,large
 -visibility" class="" id="" animation_type="" animation_direction="left" a
 nimation_speed="0.3" animation_offset=""]\n\nZimmerbuchungen bitte direkt 
 beim Lindenhof\n\n[/fusion_alert]
CATEGORIES:Ausbildung,Frauen-Einsteigerinnentraining,Goldmarie-Jahrestrain
 ing
LOCATION:\, \, 
X-APPLE-STRUCTURED-LOCATION;VALUE=URI;X-ADDRESS=\, ;X-APPLE-RADIUS=100;X-TI
 TLE=:geo:0,0
END:VEVENT
BEGIN:VTIMEZONE
TZID:Europe/Berlin
X-LIC-LOCATION:Europe/Berlin
BEGIN:DAYLIGHT
DTSTART:20220327T030000
TZOFFSETFROM:+0100
TZOFFSETTO:+0200
TZNAME:CEST
END:DAYLIGHT
END:VTIMEZONE
END:VCALENDAR