BEGIN:VCALENDAR
VERSION:2.0
PRODID:-//wp-events-plugin.com//7.2.3.1//EN
TZID:Europe/Berlin
X-WR-TIMEZONE:Europe/Berlin
BEGIN:VEVENT
UID:234@kriegerschule.de
DTSTART;TZID=Europe/Berlin:20220306T183000
DTEND;TZID=Europe/Berlin:20220306T200000
DTSTAMP:20220219T162246Z
URL:https://www.kriegerschule.de/termine/2022/03/06/medicine-talk-gemischt
 -2
SUMMARY:Medicine Talk gemischt
DESCRIPTION:&nbsp\;\n\nJack steht mit seiner 31jährigen Erfahrung als Leit
 er schamanischer Rituale\, seiner Berufung als Business-und Persönlichkei
 ts-Coach und mit ganzem Herzen für ein Gespräch mit Frauen und Männern 
 zur Verfügung.\nImmer am Puls des Zeitgeistes gibt es Informationen\, Ein
 schätzungen\, Sichtweisen und Handwerkszeuge\, die dein Leben bereichern 
 und erhellen.\n\nDer Rahmen\n\nVideokonferenzen über jeweils ca. 90 Minut
 en zu Themen der Zeit\, Kriegertechniken für den Alltag\, kleine Rituale 
 und oder Übungen und die Beantwortung von Fragen.\nJe nach Anzahl der Tei
 lnehmenden kommen alle mindestens einmal zu Wort\, oft entsteht ein reger\
 , geordneter Austausch.\n\nWertvoll und kostenfrei\nJeweils von 18:30 Uhr 
 bis ca. 20:00 Uhr\n\nDein Einsatz\nDie Anmeldung\n\nMelde dich auch zum Ne
 wsletter an\nAlle 4 - 5 Wochen berichten wir über aktuelle Angebote und d
 en Stand der Dinge\nDas Setting\nDem Gelingen eines Online-Rituals liegen 
 ein paar wichtige Faktoren zugrunde\n\n 	Du hast die bestmögliche Interne
 t-Verbindung\, die dir zur Verfügung steht.  Keine Teilnahme von unterw
 egs oder gar beim Autofahren!\n 	Du nutzt die bestmögliche Technik\, die 
 dir zu Verfügung steht. Headsets haben oft eine deutlich bessere Hör- 
 und Sprachqualität\n 	Du kannst ungestört an der Videokonferenz teilnehm
 en\n 	Du solltest einen eigenen\, geschützten und ungestörten Raum zur V
 erfügung haben.\n 	Solltest du zu zweit teilnehmen\, wäre es von Vorteil
 \, wenn jede/r an einem eigenen Gerät und in einem separaten Raum sein ka
 nn\n 	Du bist wirklich pünktlich\, eine spätere Einwahl ist bei den meis
 ten Online-Ritualen nicht mehr möglich\n 	Zu Beginn eines Rituals wird ge
 reinigt\, am besten mit Rauch oder anderen Mitteln mit der entsprechenden 
 Wirkung (reinigende Raumsprays\, Räucherstäbchen\, …)  Stelle sicher
 \, dass du über solche Möglichkeiten verfügst\n 	Halte eine Kerze berei
 t\n\nUhrzeit\n18:30 Uhr\, Dauer ca. 1\,5 Stunden\n\nZugangsdaten\nDie Zuga
 ngsdaten bekommst Du direkt mit der Anmeldebestätiging\n\nUnsere Video-Pl
 atform ist ZOOM\nWenn du noch nie an einer solchen Konferenz teilgenommen 
 hast\, schau dir die Seite von ZOOM vorher mal an\n\nTelefonischer Zugang\
 nSollte es übers Internet nicht funktionieren\, kannst du dich auch per T
 elefon einwählen\n\nDeutschland\n+49 69 7104 9922 oder +49 30 5679 5800 o
 der +49 69 3807 9883\n\nÖsterreich\n+43 12 535 501 oder +43 12 535 502 od
 er +43 72 011 5988\n\nSchweiz\n+41 44 529 92 72 oder +41 22 591 00 05 oder
  +41 22 591 01 56
ATTACH;FMTTYPE=image/jpeg:https://www.kriegerschule.de/wp-content/uploads/
 2021/01/kriegerschule-online-ritual-medicine-talk.jpg
CATEGORIES:ONLINE Medicine Talk,Online-Veranstaltung
LOCATION:ONLINE\, online\,  nimm von Zuhause aus teil\, Deutschland
X-APPLE-STRUCTURED-LOCATION;VALUE=URI;X-ADDRESS=online\,  nimm von Zuhause 
 aus teil\, Deutschland;X-APPLE-RADIUS=100;X-TITLE=ONLINE:geo:0,0
END:VEVENT
BEGIN:VTIMEZONE
TZID:Europe/Berlin
X-LIC-LOCATION:Europe/Berlin
BEGIN:STANDARD
DTSTART:20211031T020000
TZOFFSETFROM:+0200
TZOFFSETTO:+0100
TZNAME:CET
END:STANDARD
END:VTIMEZONE
END:VCALENDAR