BEGIN:VCALENDAR
VERSION:2.0
PRODID:-//wp-events-plugin.com//7.2.3.1//EN
TZID:Europe/Berlin
X-WR-TIMEZONE:Europe/Berlin
BEGIN:VEVENT
UID:85@kriegerschule.de
DTSTART;TZID=Europe/Berlin:20210901T180000
DTEND;TZID=Europe/Berlin:20211107T130000
DTSTAMP:20210707T185956Z
URL:https://www.kriegerschule.de/termine/2021/09/01/goldmarie-jahrestraini
 ng-2021
SUMMARY:Goldmarie-Jahrestraining 2021
DESCRIPTION:01.-05. September 2021 GM 1 | "Lindenhof" Schwarzwald\n01.-05. 
 September 2021 GM 2 | "Lindenhof" Schwarzwald\n04.-11. November 2021 GM 3 
 | "Lindenhof" Schwarzwald
CATEGORIES:Goldmarie-Jahrestraining
LOCATION:\, \, 
X-APPLE-STRUCTURED-LOCATION;VALUE=URI;X-ADDRESS=\, ;X-APPLE-RADIUS=100;X-TI
 TLE=:geo:0,0
END:VEVENT
BEGIN:VTIMEZONE
TZID:Europe/Berlin
X-LIC-LOCATION:Europe/Berlin
BEGIN:DAYLIGHT
DTSTART:20210328T030000
TZOFFSETFROM:+0100
TZOFFSETTO:+0200
TZNAME:CEST
END:DAYLIGHT
BEGIN:STANDARD
DTSTART:20211031T020000
TZOFFSETFROM:+0200
TZOFFSETTO:+0100
TZNAME:CET
END:STANDARD
END:VTIMEZONE
END:VCALENDAR