BEGIN:VCALENDAR
VERSION:2.0
PRODID:-//wp-events-plugin.com//7.2.3.1//EN
TZID:Europe/Berlin
X-WR-TIMEZONE:Europe/Berlin
BEGIN:VEVENT
UID:54@kriegerschule.de
DTSTART;TZID=Europe/Berlin:20200305T150000
DTEND;TZID=Europe/Berlin:20200308T150000
DTSTAMP:20191212T172149Z
URL:https://www.kriegerschule.de/termine/2020/03/05/goldmarie-1-der-sprung
 -in-den-brunnen-offenes-training-fuer-einsteigerinnen
SUMMARY:Goldmarie 1 "Der Sprung in den Brunnen" (offenes Training für Eins
 teigerinnen)
DESCRIPTION:Die Teilnahme an dieser Zusammenkunft ist Bedingung für die An
 meldung zum Goldmarie Jahrestraining. Sie beinhaltet die Einweihung in das
  Schwesternschaftsritual.\n\nÜbernachtung am Veranstaltungsort Seminarhau
 s Lindenhof:\n\n 	Einzelzimmer (€ 80\,-)\n 	Einzelzimmer mit Privatbad i
 m Flur (€ 90\,-)\n 	Doppelzimmer (€ 75\,-)\n 	Doppelzimmer Einzelnutzu
 ng (€ 95\,-)\n 	Luxus Doppelzimmer mit Dusche/WC (€ 90\,-)\n 	Luxus Do
 ppelzimmer Einzelnutzung (€ 120\,-)\n 	Vierbettzimmer ab 3 Personen (€
  65\,-)\n 	Vierbettzimmer ab 2 Personen (€ 80\,-)\n 	Jugendherberge mind
 . 4 Personen (€ 65\,-)\n 	Zelt oder Wohnmobil (€ 60\,-)\n 	Tagesgast (
 € 50\,-)\n\nPreise inkl. vegetarischer Vollpension pro Person und Tag\n\
 n[fusion_alert type="custom" accent_color="#808080" background_color="#efe
 de8" border_size="0" icon="" text_align="left" text_transform="normal" dis
 missable="no" box_shadow="" hide_on_mobile="small-visibility\,medium-visib
 ility\,large-visibility" class="" id="" animation_type="" animation_direct
 ion="left" animation_speed="0.3" animation_offset=""]\n\nBei der Anmeldung
  bitte den Zimmerwunsch angeben\, nach Möglichkeit wird dieser erfüllt.\
 n\n[/fusion_alert]\n\n&nbsp\;\n\n 
CATEGORIES:Frauen-Einsteigerinnentraining
LOCATION:\, \, 
X-APPLE-STRUCTURED-LOCATION;VALUE=URI;X-ADDRESS=\, ;X-APPLE-RADIUS=100;X-TI
 TLE=:geo:0,0
END:VEVENT
BEGIN:VTIMEZONE
TZID:Europe/Berlin
X-LIC-LOCATION:Europe/Berlin
BEGIN:STANDARD
DTSTART:20191027T020000
TZOFFSETFROM:+0200
TZOFFSETTO:+0100
TZNAME:CET
END:STANDARD
END:VTIMEZONE
END:VCALENDAR