BEGIN:VCALENDAR
VERSION:2.0
PRODID:-//wp-events-plugin.com//7.2.3.1//EN
TZID:Europe/Berlin
X-WR-TIMEZONE:Europe/Berlin
BEGIN:VEVENT
UID:23@kriegerschule.de
DTSTART;TZID=Europe/Berlin:20191213T150000
DTEND;TZID=Europe/Berlin:20200105T130000
DTSTAMP:20191205T111053Z
URL:https://www.kriegerschule.de/termine/2019/12/13/rauhnachts-paket-mit-3
 -schwitzhuetten
SUMMARY:Rauhnachts-Paket mit 3 Schwitzhütten
DESCRIPTION:Drei Schwitzhüttenrituale zur Rauhnachtszeit lassen deinen Jah
 reswechsel 2019 / 2020 zu einer unvergesslichen und heilsamen Zeit werden.
   Die Schwitzhütten dauern bis tief in die Nacht. Das gemeinsame Frühst
 ück und der morgendliche Kreis des Teilens gehören als wichtige Bestandt
 eile zum Ritual.\n\n 	Schwitzhütte zum Jahresende vom 13.-14. Dezember 20
 19\n 	Silvesterschwitzhütte vom 31. Dezember 2019-01. Januar 2020\n 	Neuj
 ahrschwitzhütte vom 04.-05. Januar 2020\n\nAlle drei Schwitzhütten finde
 n im "Drachenland" statt\, beginnen um 15 Uhr\, und enden gegen 13 Uhr am 
 Folgetag\n\nÜbernachtung:\n\n 	Matratzenlager (keine Bettwäsche) € 30\
 ,-\n 	im eigenen Zelt\, Wohnmobil oder im Tipi € 20\,-\n 	in einer Pensi
 on / Hotel in der Umgebung (Preise anfragen)\nUnsere Empfehlung: das Kaila
 sh Guesthouse (Preise auf der Kilash-Internetseite)\n 	Bei Übernachtungen
  auswärts: Platzgebühr € 10\,-\n\nPreise pro Person und Übernachtung\
 n\nMitbringen:\n\n 	Dem Wetter entsprechende Kleidung\n 	Bettbezug\, Schla
 fsack\, ... je nach Übernachtungsmöglichkeit\n 	2 große Badetücher fü
 r das Schwitzhüttenritual\n 	Je ein kleines Geschenk von Herzen für die 
 Schwitzhüttenleitung und die Feuerhüter (Kleinigkeiten\, die immer gesch
 ätzt werden\, sind feine und leckere Sachen aus dem Bioladen oder auch h
 übsch verpacktes Geld)\n
CATEGORIES:Schwitzhütte
LOCATION:\, \, 
X-APPLE-STRUCTURED-LOCATION;VALUE=URI;X-ADDRESS=\, ;X-APPLE-RADIUS=100;X-TI
 TLE=:geo:0,0
END:VEVENT
BEGIN:VTIMEZONE
TZID:Europe/Berlin
X-LIC-LOCATION:Europe/Berlin
BEGIN:STANDARD
DTSTART:20191027T020000
TZOFFSETFROM:+0200
TZOFFSETTO:+0100
TZNAME:CET
END:STANDARD
END:VTIMEZONE
END:VCALENDAR